BEGIN:VCALENDAR
VERSION:2.0
PRODID:-//jEvents 2.0 for Joomla//EN
CALSCALE:GREGORIAN
METHOD:PUBLISH
BEGIN:VEVENT
UID:1e2841c88342b223665df33984f33fd5
CATEGORIES:Schutzhütte
CREATED:20241202T164511
SUMMARY:Familientag TM
DESCRIPTION:
DTSTAMP:20260419T191530
DTSTART:20250525T060000
DTEND:20250526T100000
SEQUENCE:0
TRANSP:OPAQUE
END:VEVENT
END:VCALENDAR