BEGIN:VCALENDAR
VERSION:2.0
PRODID:-//jEvents 2.0 for Joomla//EN
CALSCALE:GREGORIAN
METHOD:PUBLISH
BEGIN:VEVENT
UID:f46822bc79dc46280fc0860b1aaaf70f
CATEGORIES:Schutzhütte
CREATED:20241215T190813
SUMMARY:Oldie Night TM
DESCRIPTION:
DTSTAMP:20260419T204636
DTSTART:20250809T060000
DTEND:20250810T120000
SEQUENCE:0
TRANSP:OPAQUE
END:VEVENT
END:VCALENDAR