BEGIN:VCALENDAR
VERSION:2.0
PRODID:-//jEvents 2.0 for Joomla//EN
CALSCALE:GREGORIAN
METHOD:PUBLISH
BEGIN:VEVENT
UID:47f3d0b77ca2b4ca6024b5ec8c7292c1
CATEGORIES:Schutzhütte
CREATED:20241216T112223
SUMMARY:Marco Schönberg Klotten
DESCRIPTION:
DTSTAMP:20260419T212027
DTSTART;VALUE=DATE:20250308
DTEND;VALUE=DATE:20250310
SEQUENCE:0
TRANSP:OPAQUE
END:VEVENT
END:VCALENDAR