BEGIN:VCALENDAR
VERSION:2.0
PRODID:-//jEvents 2.0 for Joomla//EN
CALSCALE:GREGORIAN
METHOD:PUBLISH
BEGIN:VEVENT
UID:8196f8f8f96ea899275c240760ac49a0
CATEGORIES:Schutzhütte
CREATED:20241216T112418
SUMMARY:Fröhling Neuhof Kommunion
DESCRIPTION:
DTSTAMP:20260419T212016
DTSTART;VALUE=DATE:20250427
DTEND;VALUE=DATE:20250429
SEQUENCE:0
TRANSP:OPAQUE
END:VEVENT
END:VCALENDAR