BEGIN:VCALENDAR
VERSION:2.0
PRODID:-//jEvents 2.0 for Joomla//EN
CALSCALE:GREGORIAN
METHOD:PUBLISH
BEGIN:VEVENT
UID:e52cb8123ed32f7133d6eaaae2a39639
CATEGORIES:Schutzhütte
CREATED:20241216T113228
SUMMARY:FFW Landkern Familientag
DESCRIPTION:
DTSTAMP:20260419T220802
DTSTART;VALUE=DATE:20251004
DTEND;VALUE=DATE:20251006
SEQUENCE:0
TRANSP:OPAQUE
END:VEVENT
END:VCALENDAR