BEGIN:VCALENDAR
VERSION:2.0
PRODID:-//jEvents 2.0 for Joomla//EN
CALSCALE:GREGORIAN
METHOD:PUBLISH
BEGIN:VEVENT
UID:2bbaf982fd9e95955fd12e5845d032e9
CATEGORIES:Schutzhütte
CREATED:20241216T113320
SUMMARY:belegt
DESCRIPTION:
DTSTAMP:20260419T202347
DTSTART;VALUE=DATE:20251011
DTEND;VALUE=DATE:20251012
SEQUENCE:0
TRANSP:OPAQUE
END:VEVENT
END:VCALENDAR