BEGIN:VCALENDAR
VERSION:2.0
PRODID:-//jEvents 2.0 for Joomla//EN
CALSCALE:GREGORIAN
METHOD:PUBLISH
BEGIN:VEVENT
UID:57de0cd1ccb0b0f45bf96e17a158776d
CATEGORIES:Schutzhütte
CREATED:20241220T154453
SUMMARY:belegt
DESCRIPTION:
DTSTAMP:20260420T004748
DTSTART;VALUE=DATE:20250816
DTEND;VALUE=DATE:20250817
SEQUENCE:0
TRANSP:OPAQUE
END:VEVENT
END:VCALENDAR