BEGIN:VCALENDAR
VERSION:2.0
PRODID:-//jEvents 2.0 for Joomla//EN
CALSCALE:GREGORIAN
METHOD:PUBLISH
BEGIN:VEVENT
UID:6ed9f876cd302831dc99435780c43036
CATEGORIES:Schutzhütte
CREATED:20250627T112611
SUMMARY:belegt
DESCRIPTION:
DTSTAMP:20260420T015710
DTSTART;VALUE=DATE:20250628
DTEND;VALUE=DATE:20250629
SEQUENCE:0
TRANSP:OPAQUE
END:VEVENT
END:VCALENDAR