BEGIN:VCALENDAR
VERSION:2.0
PRODID:-//jEvents 2.0 for Joomla//EN
CALSCALE:GREGORIAN
METHOD:PUBLISH
BEGIN:VEVENT
UID:daea74cc82366011244bc41cd2aabdc7
CATEGORIES:Schutzhütte
CREATED:20250721T140550
SUMMARY:belegt
DESCRIPTION:
DTSTAMP:20260420T041335
DTSTART;VALUE=DATE:20250823
DTEND;VALUE=DATE:20250824
SEQUENCE:0
TRANSP:OPAQUE
END:VEVENT
END:VCALENDAR