BEGIN:VCALENDAR
VERSION:2.0
PRODID:-//jEvents 2.0 for Joomla//EN
CALSCALE:GREGORIAN
METHOD:PUBLISH
BEGIN:VEVENT
UID:f431be42cb63d8c92477a299615b5584
CATEGORIES:Schutzhütte
CREATED:20250721T140727
SUMMARY:belegt
DESCRIPTION:
DTSTAMP:20260419T235219
DTSTART;VALUE=DATE:20250802
DTEND;VALUE=DATE:20250803
SEQUENCE:0
TRANSP:OPAQUE
END:VEVENT
END:VCALENDAR