BEGIN:VCALENDAR
VERSION:2.0
PRODID:-//jEvents 2.0 for Joomla//EN
CALSCALE:GREGORIAN
METHOD:PUBLISH
BEGIN:VEVENT
UID:6fbd82f8c29c1beac48e872a99116f24
CATEGORIES:Schutzhütte
CREATED:20250721T140913
SUMMARY:belegt
DESCRIPTION:
DTSTAMP:20260420T040722
DTSTART;VALUE=DATE:20250830
DTEND;VALUE=DATE:20250831
SEQUENCE:0
TRANSP:OPAQUE
END:VEVENT
END:VCALENDAR