BEGIN:VCALENDAR
VERSION:2.0
PRODID:-//jEvents 2.0 for Joomla//EN
CALSCALE:GREGORIAN
METHOD:PUBLISH
BEGIN:VEVENT
UID:b806172b421ac68426897cf055f24627
CATEGORIES:Schutzhütte
CREATED:20250721T141025
SUMMARY:belegt
DESCRIPTION:
DTSTAMP:20260419T215916
DTSTART;VALUE=DATE:20250905
DTEND;VALUE=DATE:20250906
SEQUENCE:0
TRANSP:OPAQUE
END:VEVENT
END:VCALENDAR