BEGIN:VCALENDAR
VERSION:2.0
PRODID:-//jEvents 2.0 for Joomla//EN
CALSCALE:GREGORIAN
METHOD:PUBLISH
BEGIN:VEVENT
UID:548fd92a08b3fc467ad9ae6b8454b47c
CATEGORIES:Schutzhütte
CREATED:20250721T141257
SUMMARY:belegt
DESCRIPTION:
DTSTAMP:20260419T220320
DTSTART;VALUE=DATE:20250920
DTEND;VALUE=DATE:20250921
SEQUENCE:0
TRANSP:OPAQUE
END:VEVENT
END:VCALENDAR