BEGIN:VCALENDAR
VERSION:2.0
PRODID:-//jEvents 2.0 for Joomla//EN
CALSCALE:GREGORIAN
METHOD:PUBLISH
BEGIN:VEVENT
UID:231207695c549d779bcde62bbaa05ee5
CATEGORIES:Schutzhütte
CREATED:20250723T125352
SUMMARY:belegt
DESCRIPTION:
DTSTAMP:20260419T220322
DTSTART;VALUE=DATE:20250927
DTEND;VALUE=DATE:20250928
SEQUENCE:0
TRANSP:OPAQUE
END:VEVENT
END:VCALENDAR