BEGIN:VCALENDAR
VERSION:2.0
PRODID:-//jEvents 2.0 for Joomla//EN
CALSCALE:GREGORIAN
METHOD:PUBLISH
BEGIN:VEVENT
UID:32fe4bdfb63e9f9f6f38a251652d360e
CATEGORIES:Schutzhütte
CREATED:20250818T090032
SUMMARY:belegt
DESCRIPTION:
DTSTAMP:20260419T202052
DTSTART;VALUE=DATE:20251008
DTEND;VALUE=DATE:20251010
SEQUENCE:0
TRANSP:OPAQUE
END:VEVENT
END:VCALENDAR