BEGIN:VCALENDAR
VERSION:2.0
PRODID:-//jEvents 2.0 for Joomla//EN
CALSCALE:GREGORIAN
METHOD:PUBLISH
BEGIN:VEVENT
UID:dc553178a0e09bebe977da189ab72e13
CATEGORIES:Schutzhütte
CREATED:20250909T110659
SUMMARY:belegt
DESCRIPTION:
DTSTAMP:20260419T195900
DTSTART:20250911T150000
DTEND:20250911T210000
SEQUENCE:0
TRANSP:OPAQUE
END:VEVENT
END:VCALENDAR