BEGIN:VCALENDAR
VERSION:2.0
PRODID:-//jEvents 2.0 for Joomla//EN
CALSCALE:GREGORIAN
METHOD:PUBLISH
BEGIN:VEVENT
UID:89c798f873b9f60d79fafc59ce3825f0
CATEGORIES:Schutzhütte
CREATED:20251006T120811
SUMMARY:belegt
DESCRIPTION:
DTSTAMP:20260419T184556
DTSTART:20251121T070000
DTEND:20251121T225900
SEQUENCE:0
TRANSP:OPAQUE
END:VEVENT
END:VCALENDAR